BEGIN:VCALENDAR
VERSION:2.0
PRODID:-//Department Of Education//40533964-b65a-4523-80bf-87c32bb296a2
BEGIN:VTIMEZONE
TZID:Australia/Sydney
TZURL:http://tzurl.org/zoneinfo-outlook/Australia/Sydney
X-LIC-LOCATION:Australia/Sydney
BEGIN:STANDARD
TZOFFSETFROM:+1100
TZOFFSETTO:+1000
TZNAME:AEST
DTSTART:19700405T030000
RRULE:FREQ=YEARLY;BYMONTH=4;BYDAY=1SU
END:STANDARD
BEGIN:DAYLIGHT
TZOFFSETFROM:+1000
TZOFFSETTO:+1100
TZNAME:AEDT
DTSTART:19701004T020000
RRULE:FREQ=YEARLY;BYMONTH=10;BYDAY=1SU
END:DAYLIGHT
END:VTIMEZONE
CALSCALE:GREGORIAN
X-WR-TIMEZONE:Australia/Sydney
BEGIN:VEVENT
DTSTART;VALUE=DATE:20200302
DTEND;VALUE=DATE:20200303
DTSTAMP:20200302T000000Z
UID:5566c8f0-5d0c-458b-8e9a-f67235e906e5
LOCATION:TBC
SUMMARY;LANGUAGE=en-us:Razorback Boys Football Trials
SEQUENCE:0
DESCRIPTION:Information and time allocation of the trial will be available closer to the date of event once released by the convener. 
END:VEVENT
TRANSP:TRANSPARENT
END:VCALENDAR
