BEGIN:VCALENDAR
VERSION:2.0
PRODID:-//Department Of Education//fff4f58e-3544-42f6-b48d-27bc5b39799f
BEGIN:VTIMEZONE
TZID:Australia/Sydney
TZURL:http://tzurl.org/zoneinfo-outlook/Australia/Sydney
X-LIC-LOCATION:Australia/Sydney
BEGIN:STANDARD
TZOFFSETFROM:+1100
TZOFFSETTO:+1000
TZNAME:AEST
DTSTART:19700405T030000
RRULE:FREQ=YEARLY;BYMONTH=4;BYDAY=1SU
END:STANDARD
BEGIN:DAYLIGHT
TZOFFSETFROM:+1000
TZOFFSETTO:+1100
TZNAME:AEDT
DTSTART:19701004T020000
RRULE:FREQ=YEARLY;BYMONTH=10;BYDAY=1SU
END:DAYLIGHT
END:VTIMEZONE
CALSCALE:GREGORIAN
X-WR-TIMEZONE:Australia/Sydney
BEGIN:VEVENT
DTSTART;VALUE=DATE:20200304
DTEND;VALUE=DATE:20200305
DTSTAMP:20200304T000000Z
UID:b58b4ba7-2a75-470e-95ab-d81992de7a70
LOCATION:TBC
SUMMARY;LANGUAGE=en-us:Razorback Boys & Girls Hockey Trials
SEQUENCE:0
DESCRIPTION:Information and time allocation of the trial will be available closer to the date of event once released by the convener. 
END:VEVENT
TRANSP:TRANSPARENT
END:VCALENDAR
