BEGIN:VCALENDAR
VERSION:2.0
PRODID:-//Department Of Education//dca7402b-3c6b-4f90-9845-d63312d6ea08
BEGIN:VTIMEZONE
TZID:Australia/Sydney
TZURL:http://tzurl.org/zoneinfo-outlook/Australia/Sydney
X-LIC-LOCATION:Australia/Sydney
BEGIN:STANDARD
TZOFFSETFROM:+1100
TZOFFSETTO:+1000
TZNAME:AEST
DTSTART:19700405T030000
RRULE:FREQ=YEARLY;BYMONTH=4;BYDAY=1SU
END:STANDARD
BEGIN:DAYLIGHT
TZOFFSETFROM:+1000
TZOFFSETTO:+1100
TZNAME:AEDT
DTSTART:19701004T020000
RRULE:FREQ=YEARLY;BYMONTH=10;BYDAY=1SU
END:DAYLIGHT
END:VTIMEZONE
CALSCALE:GREGORIAN
X-WR-TIMEZONE:Australia/Sydney
BEGIN:VEVENT
DTSTART;VALUE=DATE:20200306
DTEND;VALUE=DATE:20200307
DTSTAMP:20200306T000000Z
UID:cf6c6078-5daa-4cec-a35a-7a2497b41a98
LOCATION:TBC
SUMMARY;LANGUAGE=en-us:Razorback 11 Years & Opens Rugby League Trials
SEQUENCE:0
DESCRIPTION:Information and time allocation of the trial will be available closer to the date of event once released by the convener. 
END:VEVENT
TRANSP:TRANSPARENT
END:VCALENDAR
