BEGIN:VCALENDAR
VERSION:2.0
PRODID:-//Department Of Education//8001b97d-b842-4979-a4ad-265101d624ef
BEGIN:VTIMEZONE
TZID:Australia/Sydney
TZURL:http://tzurl.org/zoneinfo-outlook/Australia/Sydney
X-LIC-LOCATION:Australia/Sydney
BEGIN:STANDARD
TZOFFSETFROM:+1100
TZOFFSETTO:+1000
TZNAME:AEST
DTSTART:19700405T030000
RRULE:FREQ=YEARLY;BYMONTH=4;BYDAY=1SU
END:STANDARD
BEGIN:DAYLIGHT
TZOFFSETFROM:+1000
TZOFFSETTO:+1100
TZNAME:AEDT
DTSTART:19701004T020000
RRULE:FREQ=YEARLY;BYMONTH=10;BYDAY=1SU
END:DAYLIGHT
END:VTIMEZONE
CALSCALE:GREGORIAN
X-WR-TIMEZONE:Australia/Sydney
BEGIN:VEVENT
DTSTART;VALUE=DATE:20200306
DTEND;VALUE=DATE:20200307
DTSTAMP:20200306T000000Z
UID:46b10818-04a5-47ef-b81f-b9b5c1fb5d67
LOCATION:Mount Annan Public School
SUMMARY;LANGUAGE=en-us:McGrath Foundation Pink Day Fundraiser 
SEQUENCE:0
DESCRIPTION:Wear something pink for a gold donation. All money raised will go directly to the McGrath Foundation to help raise awareness and support people with breast cancer!!
END:VEVENT
TRANSP:TRANSPARENT
END:VCALENDAR
