BEGIN:VCALENDAR
VERSION:2.0
PRODID:-//Department Of Education//d2c54a5e-9783-4ae4-81f7-dfacb1b280a1
BEGIN:VTIMEZONE
TZID:Australia/Sydney
TZURL:http://tzurl.org/zoneinfo-outlook/Australia/Sydney
X-LIC-LOCATION:Australia/Sydney
BEGIN:STANDARD
TZOFFSETFROM:+1100
TZOFFSETTO:+1000
TZNAME:AEST
DTSTART:19700405T030000
RRULE:FREQ=YEARLY;BYMONTH=4;BYDAY=1SU
END:STANDARD
BEGIN:DAYLIGHT
TZOFFSETFROM:+1000
TZOFFSETTO:+1100
TZNAME:AEDT
DTSTART:19701004T020000
RRULE:FREQ=YEARLY;BYMONTH=10;BYDAY=1SU
END:DAYLIGHT
END:VTIMEZONE
CALSCALE:GREGORIAN
X-WR-TIMEZONE:Australia/Sydney
BEGIN:VEVENT
DTSTART;TZID=Australia/Sydney:20200309T090000
DTEND;TZID=Australia/Sydney:20200309T100000
DTSTAMP:20200309T000000Z
UID:9028c137-d1a7-4b7e-ae98-d7a2d14c8d6e
LOCATION:Game Zone
SUMMARY;LANGUAGE=en-us:Game Zone Playgroup
SEQUENCE:0
DESCRIPTION:Game Zone Playgroup today, everyone welcome!
END:VEVENT
TRANSP:TRANSPARENT
END:VCALENDAR
