BEGIN:VCALENDAR
VERSION:2.0
PRODID:-//Department Of Education//1e917928-69d5-4820-8267-0d65fc11bc36
BEGIN:VTIMEZONE
TZID:Australia/Sydney
TZURL:http://tzurl.org/zoneinfo-outlook/Australia/Sydney
X-LIC-LOCATION:Australia/Sydney
BEGIN:STANDARD
TZOFFSETFROM:+1100
TZOFFSETTO:+1000
TZNAME:AEST
DTSTART:19700405T030000
RRULE:FREQ=YEARLY;BYMONTH=4;BYDAY=1SU
END:STANDARD
BEGIN:DAYLIGHT
TZOFFSETFROM:+1000
TZOFFSETTO:+1100
TZNAME:AEDT
DTSTART:19701004T020000
RRULE:FREQ=YEARLY;BYMONTH=10;BYDAY=1SU
END:DAYLIGHT
END:VTIMEZONE
CALSCALE:GREGORIAN
X-WR-TIMEZONE:Australia/Sydney
BEGIN:VEVENT
DTSTART;VALUE=DATE:20200227
DTEND;VALUE=DATE:20200229
DTSTAMP:20200227T000000Z
UID:a47a8c80-4fe6-4266-993c-8ff442fe4bed
LOCATION:TBC
SUMMARY;LANGUAGE=en-us:Razorback Swimming Carnival
SEQUENCE:0
DESCRIPTION:Students who qualify at MAPS Swimming Carnival will participate in the Razorback Carnival. 
END:VEVENT
TRANSP:TRANSPARENT
END:VCALENDAR
