BEGIN:VCALENDAR
VERSION:2.0
PRODID:-//Department Of Education//fd70eb07-ab5d-47c6-9ffc-fc5095efdb10
BEGIN:VTIMEZONE
TZID:Australia/Sydney
TZURL:http://tzurl.org/zoneinfo-outlook/Australia/Sydney
X-LIC-LOCATION:Australia/Sydney
BEGIN:STANDARD
TZOFFSETFROM:+1100
TZOFFSETTO:+1000
TZNAME:AEST
DTSTART:19700405T030000
RRULE:FREQ=YEARLY;BYMONTH=4;BYDAY=1SU
END:STANDARD
BEGIN:DAYLIGHT
TZOFFSETFROM:+1000
TZOFFSETTO:+1100
TZNAME:AEDT
DTSTART:19701004T020000
RRULE:FREQ=YEARLY;BYMONTH=10;BYDAY=1SU
END:DAYLIGHT
END:VTIMEZONE
CALSCALE:GREGORIAN
X-WR-TIMEZONE:Australia/Sydney
BEGIN:VEVENT
DTSTART;TZID=Australia/Sydney:20200211T080058
DTEND;TZID=Australia/Sydney:20200211T082000
DTSTAMP:20200211T000000Z
UID:652e1b79-c6b5-4184-89ca-9c87eea763b2
LOCATION:Mount Annan Public School's Aboriginal site
SUMMARY;LANGUAGE=en-us:MAPS Community Exercise Group
RRULE:FREQ=WEEKLY;INTERVAL=1;UNTIL=20200407;
SEQUENCE:0
DESCRIPTION:Anyone interested in our school community exercise group are welcome to join Mr Waters today. 
END:VEVENT
TRANSP:TRANSPARENT
END:VCALENDAR
